BEGIN:VCALENDAR
VERSION:2.0
PRODID:-//Jugendmusikschule - ECPv6.15.20//NONSGML v1.0//EN
CALSCALE:GREGORIAN
METHOD:PUBLISH
X-ORIGINAL-URL:https://jmsh.ch
X-WR-CALDESC:Veranstaltungen für Jugendmusikschule
REFRESH-INTERVAL;VALUE=DURATION:PT1H
X-Robots-Tag:noindex
X-PUBLISHED-TTL:PT1H
BEGIN:VTIMEZONE
TZID:Europe/Zurich
BEGIN:DAYLIGHT
TZOFFSETFROM:+0100
TZOFFSETTO:+0200
TZNAME:CEST
DTSTART:20240331T010000
END:DAYLIGHT
BEGIN:STANDARD
TZOFFSETFROM:+0200
TZOFFSETTO:+0100
TZNAME:CET
DTSTART:20241027T010000
END:STANDARD
BEGIN:DAYLIGHT
TZOFFSETFROM:+0100
TZOFFSETTO:+0200
TZNAME:CEST
DTSTART:20250330T010000
END:DAYLIGHT
BEGIN:STANDARD
TZOFFSETFROM:+0200
TZOFFSETTO:+0100
TZNAME:CET
DTSTART:20251026T010000
END:STANDARD
BEGIN:DAYLIGHT
TZOFFSETFROM:+0100
TZOFFSETTO:+0200
TZNAME:CEST
DTSTART:20260329T010000
END:DAYLIGHT
BEGIN:STANDARD
TZOFFSETFROM:+0200
TZOFFSETTO:+0100
TZNAME:CET
DTSTART:20261025T010000
END:STANDARD
BEGIN:DAYLIGHT
TZOFFSETFROM:+0100
TZOFFSETTO:+0200
TZNAME:CEST
DTSTART:20270328T010000
END:DAYLIGHT
BEGIN:STANDARD
TZOFFSETFROM:+0200
TZOFFSETTO:+0100
TZNAME:CET
DTSTART:20271031T010000
END:STANDARD
END:VTIMEZONE
BEGIN:VEVENT
DTSTART;TZID=Europe/Zurich:20260128T183000
DTEND;TZID=Europe/Zurich:20260128T193000
DTSTAMP:20260423T155915
CREATED:20251231T122310Z
LAST-MODIFIED:20251231T122316Z
UID:3103-1769625000-1769628600@jmsh.ch
SUMMARY:Semesterschlusskonzert GESANG
DESCRIPTION:Herzlich willkommen zum Semesterschlusskonzert.\nDie Gesangsklasse von Rahel Pailer spielt auf … \n  \nScreenshot \n 
URL:https://jmsh.ch/event/semesterschlusskonzert-gesang/
LOCATION:Schulhaus Gmeindmatt
ORGANIZER;CN="JMSH":MAILTO:martin.messmer@gmx.ch
END:VEVENT
BEGIN:VEVENT
DTSTART;TZID=Europe/Zurich:20251216T180000
DTEND;TZID=Europe/Zurich:20251216T190000
DTSTAMP:20260423T155915
CREATED:20251127T114429Z
LAST-MODIFIED:20251212T072659Z
UID:3074-1765908000-1765911600@jmsh.ch
SUMMARY:XMAS special
DESCRIPTION:Herzlich willkommen zum adventlichen Konzert der JMSH: \nDie Band spielt auf – dazu die Querflötenklasse \nLorena Bulgheroni | Dominic Domide | Emanuel Andriescu \n16. Dezember 2025\nIm Singsaal Gmeindmatt\n18.00 Uhr \n…
URL:https://jmsh.ch/event/xmas-special/
LOCATION:Schulhaus Gmeindmatt
ORGANIZER;CN="JMSH":MAILTO:martin.messmer@gmx.ch
END:VEVENT
BEGIN:VEVENT
DTSTART;TZID=Europe/Zurich:20251113T183000
DTEND;TZID=Europe/Zurich:20251113T193000
DTSTAMP:20260423T155915
CREATED:20251024T091848Z
LAST-MODIFIED:20251024T092021Z
UID:3060-1763058600-1763062200@jmsh.ch
SUMMARY:Dancing Fingers
DESCRIPTION:Herzlich willkommen! \nDie Klavierklasse von Dominic Domide in Concert … ! —
URL:https://jmsh.ch/event/dancing-fingers/
LOCATION:Schulhaus Gmeindmatt
ORGANIZER;CN="JMSH":MAILTO:martin.messmer@gmx.ch
END:VEVENT
BEGIN:VEVENT
DTSTART;TZID=Europe/Zurich:20251102T170000
DTEND;TZID=Europe/Zurich:20251102T180000
DTSTAMP:20260423T155915
CREATED:20251020T104609Z
LAST-MODIFIED:20251020T104618Z
UID:3048-1762102800-1762106400@jmsh.ch
SUMMARY:Konzert JMSH\, 2. November\, 17.00 Uhr\, ref. Kirche Hombrechtikon
DESCRIPTION:Am Sonntag\, 2. November 2025 um 17 Uhr lädt die Jugendmusikschule ein weiteres Mal zu Ihrer traditionellen Abendmusik in die Reformierte Kirche Hombrechtikon ein. \nAriel Rossi\, Gitarrenlehrer an der Jugendmusikschule Hombrechtikon\, wird mit seiner Bandkollegin und seinen Bandkollegen mit der Band «musique en route» die Zuhörer einmal mehr auf eine sicher spannende musikalische Reise mitnehmen. \nNach nun  beinahe 20 Jahren Bandgeschichten\, etwa 500 Konzerten und tausenden von Kilometern bricht «musique en route» mit Ariel Rossi\, Gitarre\, Stefanie Hess\,Kontrabass\, Tom Tafel am Akkordeon und Percussion und Ronny Spiegel an der Violine zu neuen Abenteuern auf. \n«musique en route» lotet in seinem Konzert spielerisch neue stilistische Ebenen aus den Bereichen Jazz\, Folklore\, Klassik\, Minimal oder Worldmusic aus. Filmisch erklingen die Stücke\, bildhaft und reich an Assoziationen laden sie uns ein\, die Welt des Quartetts neugierig zu bereisen.  \nJedermann ist herzlich zu diesem sicher musikalisch spannenden Konzertabend eingeladen – der Eintritt ist frei\, am Ausgang wird eine Kollekte erhoben. \nScreenshot
URL:https://jmsh.ch/event/konzert-jmsh-2-november-17-00-uhr-ref-kirche-hombrechtikon/
LOCATION:Ref. Kirche Hombrechtikon\, Oetwilerstrasse 37\, Hombrechtikon\, 8634
ORGANIZER;CN="JMSH":MAILTO:martin.messmer@gmx.ch
END:VEVENT
BEGIN:VEVENT
DTSTART;TZID=Europe/Zurich:20250522T193000
DTEND;TZID=Europe/Zurich:20250522T203000
DTSTAMP:20260423T155915
CREATED:20250313T072228Z
LAST-MODIFIED:20250313T072307Z
UID:2927-1747942200-1747945800@jmsh.ch
SUMMARY:Generalversammlung der JMSH
DESCRIPTION:Der Verein lädt ein … \nHerzlich willkommen zur GV der Jugendmusikschule Hombrechtikon!\n \nScreenshot
URL:https://jmsh.ch/event/generalverrsammlung-der-jmsh/
LOCATION:Schulhaus Gmeindmatt
ORGANIZER;CN="JMSH":MAILTO:martin.messmer@gmx.ch
END:VEVENT
BEGIN:VEVENT
DTSTART;TZID=Europe/Zurich:20250517T090000
DTEND;TZID=Europe/Zurich:20250517T130000
DTSTAMP:20260423T155915
CREATED:20250506T165412Z
LAST-MODIFIED:20250506T165531Z
UID:2973-1747472400-1747486800@jmsh.ch
SUMMARY:Tag der offenen JMSH-Türen …
DESCRIPTION:Ganz herzlich WILLKOMMEN! — \nScreenshot
URL:https://jmsh.ch/event/tag-der-offenen-jmsh-tueren/
LOCATION:Schulhaus Gmeindmatt
ORGANIZER;CN="JMSH":MAILTO:martin.messmer@gmx.ch
END:VEVENT
END:VCALENDAR